BEGIN:VCALENDAR
VERSION:2.0
PRODID:-//Banda y Majorettes de Móstoles - ECPv6.3.5//NONSGML v1.0//EN
CALSCALE:GREGORIAN
METHOD:PUBLISH
X-WR-CALNAME:Banda y Majorettes de Móstoles
X-ORIGINAL-URL:https://www.bandamostoles.com
X-WR-CALDESC:Eventos para Banda y Majorettes de Móstoles
REFRESH-INTERVAL;VALUE=DURATION:PT1H
X-Robots-Tag:noindex
X-PUBLISHED-TTL:PT1H
BEGIN:VTIMEZONE
TZID:UTC
BEGIN:STANDARD
TZOFFSETFROM:+0000
TZOFFSETTO:+0000
TZNAME:UTC
DTSTART:20250101T000000
END:STANDARD
END:VTIMEZONE
BEGIN:VEVENT
DTSTART;TZID=UTC:20250517T193000
DTEND;TZID=UTC:20250517T213000
DTSTAMP:20260421T002551
CREATED:20250520T155402Z
LAST-MODIFIED:20250520T155402Z
UID:2170-1747510200-1747517400@www.bandamostoles.com
SUMMARY:INAUGURACION DE LA TEMPORADA CON "MADRID BRAVOS"
DESCRIPTION:El proximo dia 17 de Mayo estaremos animando en el Estadio de Vallehermoso en Madrid al equipo MADRID BRAVOS en su primer partido de temporada contra los SEA DEVILS de Hamburgo.
URL:https://www.bandamostoles.com/event/inauguracion-de-la-temporada-con-madrid-bravos/
END:VEVENT
END:VCALENDAR