BEGIN:VCALENDAR
VERSION:2.0
PRODID:-//Banda y Majorettes de Móstoles - ECPv6.3.5//NONSGML v1.0//EN
CALSCALE:GREGORIAN
METHOD:PUBLISH
X-WR-CALNAME:Banda y Majorettes de Móstoles
X-ORIGINAL-URL:https://www.bandamostoles.com
X-WR-CALDESC:Eventos para Banda y Majorettes de Móstoles
REFRESH-INTERVAL;VALUE=DURATION:PT1H
X-Robots-Tag:noindex
X-PUBLISHED-TTL:PT1H
BEGIN:VTIMEZONE
TZID:UTC
BEGIN:STANDARD
TZOFFSETFROM:+0000
TZOFFSETTO:+0000
TZNAME:UTC
DTSTART:20250101T000000
END:STANDARD
END:VTIMEZONE
BEGIN:VEVENT
DTSTART;TZID=UTC:20250705T180000
DTEND;TZID=UTC:20250705T210000
DTSTAMP:20260420T221714
CREATED:20250618T182141Z
LAST-MODIFIED:20250618T182141Z
UID:2228-1751738400-1751749200@www.bandamostoles.com
SUMMARY:PARTIDO MADRID BRAVOS
DESCRIPTION:El proximo 5 de Julio volvemos al Estadio Vallehermoso de Madrid para animar a los Madrid Bravos contra el equipo aleman Munich Ravens.
URL:https://www.bandamostoles.com/event/partido-madrid-bravos/
END:VEVENT
END:VCALENDAR